BEGIN:VCALENDAR
VERSION:2.0
PRODID:GlueUp
CALSCALE:GREGORIAN
BEGIN:VTIMEZONE
TZID:UTC
BEGIN:STANDARD
DTSTART:19700101T000000
TZOFFSETFROM:+0000
TZOFFSETTO:+0000
TZNAME:UTC
END:STANDARD
END:VTIMEZONE
BEGIN:VEVENT
TZ:+00
ORGANIZER;CN=Jingwen Liang:MAILTO:liang.jingwen@ecnia.org
UID:47340-1776597097@https://ecnia.glueup.cn
DTSTAMP:20260419T111137Z
DTSTART:20250523T053000Z
DTEND:20250523T120000Z
SUMMARY:“韧性增长·信任筑基”可持续性发展升维与数智化 信任助力企业出海
DESCRIPTION:深圳外商投资企业协会发布活动“韧性增长·信任筑基”可持续性发展升维与数智化 信任助力企业出海\n\n2025年05月23日（13:30 - 20:00）(GMT+8)\n\n更多信息，访问https://ecnia.glueup.cn/my/events/47340
LOCATION:
BEGIN:VALARM
TRIGGER:-PT48H
REPEAT:4
DURATION:PT30M
ACTION:DISPLAY
END:VALARM
END:VEVENT
END:VCALENDAR