BEGIN:VCALENDAR
VERSION:2.0
PRODID:GlueUp
CALSCALE:GREGORIAN
BEGIN:VTIMEZONE
TZID:UTC
BEGIN:STANDARD
DTSTART:19700101T000000
TZOFFSETFROM:+0000
TZOFFSETTO:+0000
TZNAME:UTC
END:STANDARD
END:VTIMEZONE
BEGIN:VEVENT
TZ:+00
ORGANIZER;CN=丁风琴:MAILTO:dingfengqin@ecnia.org
UID:48826-1776815242@https://ecnia.glueup.cn
DTSTAMP:20260421T234722Z
DTSTART:20251118T060000Z
DTEND:20251118T090000Z
SUMMARY:“金融赋能——出口企业专项服务”
DESCRIPTION:深圳外商投资企业协会发布活动“金融赋能——出口企业专项服务”\n\n2025年11月18日（14:00 - 17:00）(GMT+8)\n\n更多信息，访问https://ecnia.glueup.cn/my/events/48826
LOCATION:联想后海中心A座 - 中国广东省深圳市深圳市南山区联想后海中心A座25F 多功能厅
BEGIN:VALARM
TRIGGER:-PT48H
REPEAT:4
DURATION:PT30M
ACTION:DISPLAY
END:VALARM
END:VEVENT
END:VCALENDAR