BEGIN:VCALENDAR
VERSION:2.0
PRODID:GlueUp
CALSCALE:GREGORIAN
BEGIN:VTIMEZONE
TZID:UTC
BEGIN:STANDARD
DTSTART:19700101T000000
TZOFFSETFROM:+0000
TZOFFSETTO:+0000
TZNAME:UTC
END:STANDARD
END:VTIMEZONE
BEGIN:VEVENT
TZ:+00
ORGANIZER;CN=陈红:MAILTO:chenhong@ecnia.org
UID:49131-1776815797@https://ecnia.glueup.cn
DTSTAMP:20260421T235637Z
DTSTART:20251223T063000Z
DTEND:20251223T100000Z
SUMMARY:苏州（粤港澳大湾区）产业对接暨全景发布会
DESCRIPTION:深圳外商投资企业协会发布活动苏州（粤港澳大湾区）产业对接暨全景发布会\n\n2025年12月23日（14:30 - 18:00）(GMT+8)\n\n更多信息，访问https://ecnia.glueup.cn/my/events/49131
LOCATION:
BEGIN:VALARM
TRIGGER:-PT48H
REPEAT:4
DURATION:PT30M
ACTION:DISPLAY
END:VALARM
END:VEVENT
END:VCALENDAR