BEGIN:VCALENDAR
VERSION:2.0
PRODID:GlueUp
CALSCALE:GREGORIAN
BEGIN:VTIMEZONE
TZID:UTC
BEGIN:STANDARD
DTSTART:19700101T000000
TZOFFSETFROM:+0000
TZOFFSETTO:+0000
TZNAME:UTC
END:STANDARD
END:VTIMEZONE
BEGIN:VEVENT
TZ:+00
ORGANIZER;CN=陈红:MAILTO:chenhong@ecnia.org
UID:50279-1777037102@https://ecnia.glueup.cn
DTSTAMP:20260424T132502Z
DTSTART:20260515T060000Z
DTEND:20260515T090000Z
SUMMARY:芳香智汇—外资企业女性交流沙龙
DESCRIPTION:深圳外商投资企业协会发布活动芳香智汇—外资企业女性交流沙龙\n\n2026年05月15日（14:00 - 17:00）(GMT+8)\n\n更多信息，访问https://ecnia.glueup.cn/my/events/50279
LOCATION:多特瑞会议室 - 中国广东省深圳深圳市福田区福田街道星河发展中心主楼15层
BEGIN:VALARM
TRIGGER:-PT48H
REPEAT:4
DURATION:PT30M
ACTION:DISPLAY
END:VALARM
END:VEVENT
END:VCALENDAR