BEGIN:VCALENDAR
VERSION:2.0
PRODID:GlueUp
CALSCALE:GREGORIAN
BEGIN:VTIMEZONE
TZID:UTC
BEGIN:STANDARD
DTSTART:19700101T000000
TZOFFSETFROM:+0000
TZOFFSETTO:+0000
TZNAME:UTC
END:STANDARD
END:VTIMEZONE
BEGIN:VEVENT
TZ:+00
ORGANIZER;CN=陈红:MAILTO:chenhong@ecnia.org
UID:49016-1776815804@https://ecnia.glueup.cn
DTSTAMP:20260421T235644Z
DTSTART:20251126T063000Z
DTEND:20251126T090000Z
SUMMARY:深圳市发改委优化营商环境座谈会
DESCRIPTION:深圳外商投资企业协会发布活动深圳市发改委优化营商环境座谈会\n\n2025年11月26日（14:30 - 17:00）(GMT+8)\n\n更多信息，访问https://ecnia.glueup.cn/my/events/49016
LOCATION:深圳市民中心 - 中国广东省深圳市深圳市福田区福民路
BEGIN:VALARM
TRIGGER:-PT48H
REPEAT:4
DURATION:PT30M
ACTION:DISPLAY
END:VALARM
END:VEVENT
END:VCALENDAR