BEGIN:VCALENDAR
VERSION:2.0
PRODID:GlueUp
CALSCALE:GREGORIAN
BEGIN:VTIMEZONE
TZID:UTC
BEGIN:STANDARD
DTSTART:19700101T000000
TZOFFSETFROM:+0000
TZOFFSETTO:+0000
TZNAME:UTC
END:STANDARD
END:VTIMEZONE
BEGIN:VEVENT
TZ:+00
ORGANIZER;CN=任晔:MAILTO:renye@ecnia.org
UID:48698-1776814885@https://ecnia.glueup.cn
DTSTAMP:20260421T234125Z
DTSTART:20251024T070000Z
DTEND:20251024T090000Z
SUMMARY:国家移民管理局专项调研座谈会
DESCRIPTION:深圳外商投资企业协会发布活动国家移民管理局专项调研座谈会\n\n2025年10月24日（15:00 - 17:00）(GMT+8)\n\n更多信息，访问https://ecnia.glueup.cn/my/events/48698
LOCATION:深圳市公安局出入境管理支队8楼会议室 - 中国广东深圳深圳市罗湖区解放路4016号
BEGIN:VALARM
TRIGGER:-PT48H
REPEAT:4
DURATION:PT30M
ACTION:DISPLAY
END:VALARM
END:VEVENT
END:VCALENDAR