BEGIN:VCALENDAR
VERSION:2.0
PRODID:GlueUp
CALSCALE:GREGORIAN
BEGIN:VTIMEZONE
TZID:UTC
BEGIN:STANDARD
DTSTART:19700101T000000
TZOFFSETFROM:+0000
TZOFFSETTO:+0000
TZNAME:UTC
END:STANDARD
END:VTIMEZONE
BEGIN:VEVENT
TZ:+00
ORGANIZER;CN=会员部:MAILTO:member@ecnia.org
UID:33438-1777120925@https://ecnia.glueup.cn
DTSTAMP:20260425T124205Z
DTSTART:20210823T010000Z
DTEND:20211029T100000Z
SUMMARY:关于评选表彰2020—2021年度 “全国优秀外商投资企业”的通知
DESCRIPTION:关于评选表彰2020—2021年度 “全国优秀外商投资企业”的通知 by 深圳外商投资企业协会\n\nAug 23, 2021 to Oct 29, 2021(GMT+8)\n\nFor more information, click here: https://ecnia.glueup.cn/my/events/33438
LOCATION:
BEGIN:VALARM
TRIGGER:-PT48H
REPEAT:4
DURATION:PT30M
ACTION:DISPLAY
END:VALARM
END:VEVENT
END:VCALENDAR