BEGIN:VCALENDAR
VERSION:2.0
PRODID:GlueUp
CALSCALE:GREGORIAN
BEGIN:VTIMEZONE
TZID:UTC
BEGIN:STANDARD
DTSTART:19700101T000000
TZOFFSETFROM:+0000
TZOFFSETTO:+0000
TZNAME:UTC
END:STANDARD
END:VTIMEZONE
BEGIN:VEVENT
TZ:+00
ORGANIZER;CN=胡梅:MAILTO:nancy.hu@ecnia.org
UID:43895-1776948628@https://ecnia.glueup.cn
DTSTAMP:20260423T125028Z
DTSTART:20240516T060000Z
DTEND:20240516T100000Z
SUMMARY:全球视野：数字经济时代中国出海企业知识产权与合规策略研讨会
DESCRIPTION:深圳外商投资企业协会发布活动全球视野：数字经济时代中国出海企业知识产权与合规策略研讨会\n\n2024年05月16日（14:00 - 18:00）(GMT+8)\n\n更多信息，访问https://ecnia.glueup.cn/my/events/43895
LOCATION:深圳南山知识产权保护中心 - 深圳南山知识产权保护中心C4多功能会议厅（深圳市南山区深圳湾科技生态园7B栋3楼）
BEGIN:VALARM
TRIGGER:-PT48H
REPEAT:4
DURATION:PT30M
ACTION:DISPLAY
END:VALARM
END:VEVENT
END:VCALENDAR