BEGIN:VCALENDAR
VERSION:2.0
PRODID:GlueUp
CALSCALE:GREGORIAN
BEGIN:VTIMEZONE
TZID:UTC
BEGIN:STANDARD
DTSTART:19700101T000000
TZOFFSETFROM:+0000
TZOFFSETTO:+0000
TZNAME:UTC
END:STANDARD
END:VTIMEZONE
BEGIN:VEVENT
TZ:+00
ORGANIZER;CN=束芳:MAILTO:shufang@ecnia.org
UID:46510-1776948611@https://ecnia.glueup.cn
DTSTAMP:20260423T125011Z
DTSTART:20250327T013000Z
DTEND:20250327T090000Z
SUMMARY:企业出海系列培训之一 ——越南投资的落地与合规策略
DESCRIPTION:深圳外商投资企业协会发布活动企业出海系列培训之一 ——越南投资的落地与合规策略\n\n2025年03月27日（09:30 - 17:00）(GMT+8)\n\n更多信息，访问https://ecnia.glueup.cn/my/events/46510
LOCATION:
BEGIN:VALARM
TRIGGER:-PT48H
REPEAT:4
DURATION:PT30M
ACTION:DISPLAY
END:VALARM
END:VEVENT
END:VCALENDAR