BEGIN:VCALENDAR
VERSION:2.0
PRODID:GlueUp
CALSCALE:GREGORIAN
BEGIN:VTIMEZONE
TZID:UTC
BEGIN:STANDARD
DTSTART:19700101T000000
TZOFFSETFROM:+0000
TZOFFSETTO:+0000
TZNAME:UTC
END:STANDARD
END:VTIMEZONE
BEGIN:VEVENT
TZ:+00
ORGANIZER;CN=束芳:MAILTO:shufang@ecnia.org
UID:50246-1776814719@https://ecnia.glueup.cn
DTSTAMP:20260421T233839Z
DTSTART:20260527T013000Z
DTEND:20260527T090000Z
SUMMARY:主题：引爆团队智慧的业务复盘实战工作坊
DESCRIPTION:深圳外商投资企业协会发布活动主题：引爆团队智慧的业务复盘实战工作坊\n\n2026年05月27日（09:30 - 17:00）(GMT+8)\n\n更多信息，访问https://ecnia.glueup.cn/my/events/50246
LOCATION:深圳外商投资企业协会 - 中国广东深圳广东省深圳市福田区南园路上步大厦20A-F
BEGIN:VALARM
TRIGGER:-PT48H
REPEAT:4
DURATION:PT30M
ACTION:DISPLAY
END:VALARM
END:VEVENT
END:VCALENDAR