BEGIN:VCALENDAR
VERSION:2.0
PRODID:GlueUp
CALSCALE:GREGORIAN
BEGIN:VTIMEZONE
TZID:UTC
BEGIN:STANDARD
DTSTART:19700101T000000
TZOFFSETFROM:+0000
TZOFFSETTO:+0000
TZNAME:UTC
END:STANDARD
END:VTIMEZONE
BEGIN:VEVENT
TZ:+00
ORGANIZER;CN=Jingwen Liang:MAILTO:liang.jingwen@ecnia.org
UID:48768-1776815150@https://ecnia.glueup.cn
DTSTAMP:20260421T234550Z
DTSTART:20251201T023000Z
DTEND:20251211T020000Z
SUMMARY:2025年深圳市外商投资企业盛典
DESCRIPTION:2025年深圳市外商投资企业盛典 by 深圳外商投资企业协会\n\nDec 1 - 11, 2025(GMT+8)\n\nFor more information, click here: https://ecnia.glueup.cn/my/events/48768
LOCATION:前海国际会议中心 - 怡海大道与前海大道交叉口 深圳市 - 广东省
BEGIN:VALARM
TRIGGER:-PT48H
REPEAT:4
DURATION:PT30M
ACTION:DISPLAY
END:VALARM
END:VEVENT
END:VCALENDAR